BEGIN:VCALENDAR
VERSION:2.0
PRODID:-//Squarespace Inc/Squarespace 6//v6//EN
BEGIN:VEVENT
UID:5af26467f950b7dc718e8786@squarespace.com
DTSTAMP:20191020T075043Z
DTSTART:20191121T044500Z
DTEND:20191121T054500Z
SUMMARY:Intercessory Prayer Evening
GEO:-43.534846;172.584484
LOCATION:Every Nation Church - Korowai Centre\, 42 Lochee Road\, Christchur
 ch\, Canterbury\, 8041\, New Zealand
END:VEVENT
END:VCALENDAR
