BEGIN:VCALENDAR
VERSION:2.0
PRODID:-//Squarespace Inc/Squarespace 6//v6//EN
BEGIN:VEVENT
UID:5b592600352f5370d40350f4@squarespace.com
DTSTAMP:20191216T054325Z
DTSTART:20200305T041500Z
DTEND:20200305T051500Z
SUMMARY:Worship Prayer Meeting 
GEO:-43.534846;172.584484
LOCATION:Every Nation Christchurch - Korowai Centre\, 42 Lochee Road\, Chri
 stchurch\, Canterbury\, 8041\, New Zealand
END:VEVENT
END:VCALENDAR
