BEGIN:VCALENDAR
VERSION:2.0
PRODID:-//Squarespace Inc/Squarespace 6//v6//EN
BEGIN:VEVENT
UID:5afd39d3562fa78cc7f0466a@squarespace.com
DTSTAMP:20191216T054524Z
DTSTART:20200216T031500Z
DTEND:20200216T044500Z
SUMMARY:REALM Worship Service
GEO:-43.534872;172.584424
LOCATION:Every Nation Church - Korowai Centre\, 42 Lochee Road\, Christchur
 ch\, Canterbury\, 8041\, New Zealand
END:VEVENT
END:VCALENDAR
