BEGIN:VCALENDAR
VERSION:2.0
PRODID:-//Squarespace Inc/Squarespace 6//v6//EN
BEGIN:VEVENT
UID:5b024252562fa7b754e8b8b4@squarespace.com
DTSTAMP:20191216T053417Z
DTSTART:20200225T201500Z
DTEND:20200225T214500Z
SUMMARY:Ladies Morning
GEO:-43.534846;172.584484
LOCATION:Every Nation Church - Korowai Centre\, 42 Lochee Road\, Christchur
 ch\, Canterbury\, 8041\, New Zealand
END:VEVENT
END:VCALENDAR
