BEGIN:VCALENDAR
VERSION:2.0
PRODID:-//Squarespace Inc/Squarespace 6//v6//EN
BEGIN:VEVENT
UID:5dc633b9f8965a004a909bd3@squarespace.com
DTSTAMP:20191216T060617Z
DTSTART:20201204T191500Z
DTEND:20201205T011500Z
SUMMARY:Working Bee
GEO:-43.534846;172.584484
LOCATION:Every Nation Church Christchurch - Korowai Centre\, 42 Lochee Road
 \, Christchurch\, Canterbury\, 8041\, New Zealand
END:VEVENT
END:VCALENDAR
