BEGIN:VCALENDAR
VERSION:2.0
PRODID:-//Squarespace Inc/Squarespace 6//v6//EN
BEGIN:VEVENT
UID:5dc636158c103161026e7ff5@squarespace.com
DTSTAMP:20191216T060600Z
DTSTART:20201220T031500Z
DTEND:20201220T071500Z
SUMMARY:EN Christmas Party
END:VEVENT
END:VCALENDAR
