BEGIN:VCALENDAR
VERSION:2.0
PRODID:-//Squarespace Inc/Squarespace 6//v6//EN
BEGIN:VEVENT
UID:5de07981a06c92692031993d@squarespace.com
DTSTAMP:20191129T015519Z
DTSTART:20191224T191500Z
DTEND:20191224T201500Z
SUMMARY:Christmas Day Service
GEO:-43.534846;172.584484
LOCATION:Every Nation Church - Korowai Centre\, 42 Lochee Road\, Christchur
 ch\, Canterbury\, 8041\, New Zealand
END:VEVENT
END:VCALENDAR
