BEGIN:VCALENDAR
VERSION:2.0
PRODID:-//Squarespace Inc/Squarespace 6//v6//EN
BEGIN:VEVENT
UID:5de07a9951c72e2c5e0f4e82@squarespace.com
DTSTAMP:20191129T015816Z
DTSTART:20191228T201500Z
DTEND:20191228T211500Z
SUMMARY:NO SUNDAY SERVICE
END:VEVENT
END:VCALENDAR
