BEGIN:VCALENDAR
VERSION:2.0
PRODID:-//Squarespace Inc/Squarespace 6//v6//EN
BEGIN:VEVENT
UID:5c761917fa0d60755a526b2e@squarespace.com
DTSTAMP:20191216T060344Z
DTSTART:20200321T201500Z
DTEND:20200321T214500Z
SUMMARY:Child Dedication 
GEO:-43.534846;172.584484
LOCATION:Every Nation Church - Korowai Centre\, 42 Lochee Road\, Christchur
 ch\, Canterbury\, 8041\, New Zealand
END:VEVENT
END:VCALENDAR
