BEGIN:VCALENDAR
VERSION:2.0
PRODID:-//Squarespace Inc/Squarespace 6//v6//EN
BEGIN:VEVENT
UID:5d0f1afe17e3300001e26274@squarespace.com
DTSTAMP:20191211T064937Z
DTSTART:20191130T201500Z
DTEND:20191221T214500Z
SUMMARY:Sunday Morning - Worship Service
GEO:-43.534846;172.584484
LOCATION:Every Nation Church - Korowai Centre\, 42 Lochee Road\, Christchur
 ch\, Canterbury\, 8041\, New Zealand
END:VEVENT
END:VCALENDAR
